BEGIN:VCALENDAR
VERSION:2.0
CALSCALE:GREGORIAN
PRODID:-//Diputació de Barcelona//DibaCMS//EN
BEGIN:VEVENT
UID:6434
DTSTAMP:20260422T072115
DTSTART:20151218T190000
DTEND:20151218T000000
SUMMARY:Nova edició del Contacontes a les portes de Nadal
LOCATION:
METHOD:PUBLISH
X-WR-CALNAME:aiguafreda@aiguafreda.cat
X-WR-TIMEZONE:Europe/Madrid
DESCRIPTION:
URI:https://www.aiguafreda.cat/actualitat/agenda/6434-nova-edicio-del-contacontes-a-les-portes-de-nadal.html
CLASS:PUBLIC
END:VEVENT
END:VCALENDAR
