BEGIN:VCALENDAR
VERSION:2.0
CALSCALE:GREGORIAN
PRODID:-//Diputació de Barcelona//DibaCMS//EN
BEGIN:VEVENT
UID:6433
DTSTAMP:20260422T084953
DTSTART:20151218T190000
DTEND:20151218T000000
SUMMARY:Vesprada de contes - IX matinal a les fosques
LOCATION:
METHOD:PUBLISH
X-WR-CALNAME:aiguafreda@aiguafreda.cat
X-WR-TIMEZONE:Europe/Madrid
DESCRIPTION:
URI:https://www.aiguafreda.cat/actualitat/agenda/vesprada-de-contes-ix-matinal-a-les-fosques.html
CLASS:PUBLIC
END:VEVENT
END:VCALENDAR
